BEGIN:VCALENDAR
VERSION:2.0
PRODID:-//Ventura County Airports - ECPv6.15.20//NONSGML v1.0//EN
CALSCALE:GREGORIAN
METHOD:PUBLISH
X-ORIGINAL-URL:https://airports.venturacounty.gov
X-WR-CALDESC:Events for Ventura County Airports
REFRESH-INTERVAL;VALUE=DURATION:PT1H
X-Robots-Tag:noindex
X-PUBLISHED-TTL:PT1H
BEGIN:VTIMEZONE
TZID:America/Los_Angeles
BEGIN:DAYLIGHT
TZOFFSETFROM:-0800
TZOFFSETTO:-0700
TZNAME:PDT
DTSTART:20250309T100000
END:DAYLIGHT
BEGIN:STANDARD
TZOFFSETFROM:-0700
TZOFFSETTO:-0800
TZNAME:PST
DTSTART:20251102T090000
END:STANDARD
BEGIN:DAYLIGHT
TZOFFSETFROM:-0800
TZOFFSETTO:-0700
TZNAME:PDT
DTSTART:20260308T100000
END:DAYLIGHT
BEGIN:STANDARD
TZOFFSETFROM:-0700
TZOFFSETTO:-0800
TZNAME:PST
DTSTART:20261101T090000
END:STANDARD
BEGIN:DAYLIGHT
TZOFFSETFROM:-0800
TZOFFSETTO:-0700
TZNAME:PDT
DTSTART:20270314T100000
END:DAYLIGHT
BEGIN:STANDARD
TZOFFSETFROM:-0700
TZOFFSETTO:-0800
TZNAME:PST
DTSTART:20271107T090000
END:STANDARD
END:VTIMEZONE
BEGIN:VEVENT
DTSTART;TZID=America/Los_Angeles:20260804T083000
DTEND;TZID=America/Los_Angeles:20260804T083000
DTSTAMP:20260425T093806
CREATED:20251212T003031Z
LAST-MODIFIED:20251212T003031Z
UID:2604-1785832200-1785832200@airports.venturacounty.gov
SUMMARY:Board of Supervisors Regular Meeting
DESCRIPTION:
URL:https://airports.venturacounty.gov/event/board-of-supervisors-regular-meeting-33/
LOCATION:County Government Center\, 800 South Victoria Ave.\, Ventura\, CA\, 93003
CATEGORIES:BOS
END:VEVENT
BEGIN:VEVENT
DTSTART;TZID=America/Los_Angeles:20260812T183000
DTEND;TZID=America/Los_Angeles:20260812T183000
DTSTAMP:20260425T093806
CREATED:20250929T194003Z
LAST-MODIFIED:20250929T194003Z
UID:2483-1786559400-1786559400@airports.venturacounty.gov
SUMMARY:Aviation Advisory Commission Meeting
DESCRIPTION:Aviation Advisory Commission regular meeting
URL:https://airports.venturacounty.gov/event/aviation-advisory-commission-meeting-44/
LOCATION:Department of Airports\, 555 Airport Way\, Suite B\, Camarillo\, CA\, 93010\, United States
END:VEVENT
BEGIN:VEVENT
DTSTART;TZID=America/Los_Angeles:20260813T183000
DTEND;TZID=America/Los_Angeles:20260813T183000
DTSTAMP:20260425T093806
CREATED:20250929T194319Z
LAST-MODIFIED:20250929T194319Z
UID:2484-1786645800-1786645800@airports.venturacounty.gov
SUMMARY:Camarillo/Oxnard Airport Authority Meeting
DESCRIPTION:Camarillo/Oxnard Airport Authority regular meeting
URL:https://airports.venturacounty.gov/event/camarillo-oxnard-airport-authority-meeting-21/
LOCATION:Department of Airports\, 555 Airport Way\, Suite B\, Camarillo\, CA\, 93010\, United States
END:VEVENT
BEGIN:VEVENT
DTSTART;VALUE=DATE:20260815
DTEND;VALUE=DATE:20260817
DTSTAMP:20260425T093806
CREATED:20250929T200520Z
LAST-MODIFIED:20250929T201048Z
UID:2493-1786752000-1786924799@airports.venturacounty.gov
SUMMARY:2026 Wings Over Camarillo Air Show
DESCRIPTION:For more information about Wings Over Camarillo Air Show please visit the website below. \n  \nhttps://wingsovercamarillo.com/
URL:https://airports.venturacounty.gov/event/2026-wings-over-camarillo-air-show/
LOCATION:Camarillo Airport\, 555 Airport Way\, Camarillo\, CA\, 93010\, United States
ORGANIZER;CN="Camarillo Wings Association":MAILTO:Info@WingsOverCamarillo.com
END:VEVENT
BEGIN:VEVENT
DTSTART;TZID=America/Los_Angeles:20260818T083000
DTEND;TZID=America/Los_Angeles:20260818T083000
DTSTAMP:20260425T093806
CREATED:20251212T003149Z
LAST-MODIFIED:20251212T003149Z
UID:2605-1787041800-1787041800@airports.venturacounty.gov
SUMMARY:Board of Supervisors Regular Meeting
DESCRIPTION:
URL:https://airports.venturacounty.gov/event/board-of-supervisors-regular-meeting-34/
LOCATION:County Government Center\, 800 South Victoria Ave.\, Ventura\, CA\, 93003
CATEGORIES:BOS
END:VEVENT
END:VCALENDAR