BEGIN:VCALENDAR
VERSION:2.0
PRODID:-//Ventura County Airports - ECPv6.15.20//NONSGML v1.0//EN
CALSCALE:GREGORIAN
METHOD:PUBLISH
X-ORIGINAL-URL:https://airports.venturacounty.gov
X-WR-CALDESC:Events for Ventura County Airports
REFRESH-INTERVAL;VALUE=DURATION:PT1H
X-Robots-Tag:noindex
X-PUBLISHED-TTL:PT1H
BEGIN:VTIMEZONE
TZID:America/Los_Angeles
BEGIN:DAYLIGHT
TZOFFSETFROM:-0800
TZOFFSETTO:-0700
TZNAME:PDT
DTSTART:20250309T100000
END:DAYLIGHT
BEGIN:STANDARD
TZOFFSETFROM:-0700
TZOFFSETTO:-0800
TZNAME:PST
DTSTART:20251102T090000
END:STANDARD
BEGIN:DAYLIGHT
TZOFFSETFROM:-0800
TZOFFSETTO:-0700
TZNAME:PDT
DTSTART:20260308T100000
END:DAYLIGHT
BEGIN:STANDARD
TZOFFSETFROM:-0700
TZOFFSETTO:-0800
TZNAME:PST
DTSTART:20261101T090000
END:STANDARD
BEGIN:DAYLIGHT
TZOFFSETFROM:-0800
TZOFFSETTO:-0700
TZNAME:PDT
DTSTART:20270314T100000
END:DAYLIGHT
BEGIN:STANDARD
TZOFFSETFROM:-0700
TZOFFSETTO:-0800
TZNAME:PST
DTSTART:20271107T090000
END:STANDARD
END:VTIMEZONE
BEGIN:VEVENT
DTSTART;TZID=America/Los_Angeles:20260609T083000
DTEND;TZID=America/Los_Angeles:20260609T083000
DTSTAMP:20260424T114407
CREATED:20251212T002625Z
LAST-MODIFIED:20251212T002625Z
UID:2602-1780993800-1780993800@airports.venturacounty.gov
SUMMARY:Board of Supervisors Regular Meeting
DESCRIPTION:
URL:https://airports.venturacounty.gov/event/board-of-supervisors-regular-meeting-31/
LOCATION:County Government Center\, 800 South Victoria Ave.\, Ventura\, CA\, 93003
CATEGORIES:BOS
END:VEVENT
BEGIN:VEVENT
DTSTART;TZID=America/Los_Angeles:20260610T183000
DTEND;TZID=America/Los_Angeles:20260610T183000
DTSTAMP:20260424T114407
CREATED:20250929T193218Z
LAST-MODIFIED:20250929T193218Z
UID:2479-1781116200-1781116200@airports.venturacounty.gov
SUMMARY:Aviation Advisory Commission Meeting
DESCRIPTION:Aviation Advisory Commission regular meeting
URL:https://airports.venturacounty.gov/event/aviation-advisory-commission-meeting-42/
LOCATION:Department of Airports\, 555 Airport Way\, Suite B\, Camarillo\, CA\, 93010\, United States
END:VEVENT
BEGIN:VEVENT
DTSTART;TZID=America/Los_Angeles:20260611T183000
DTEND;TZID=America/Los_Angeles:20260611T183000
DTSTAMP:20260424T114407
CREATED:20250929T193504Z
LAST-MODIFIED:20250929T193504Z
UID:2480-1781202600-1781202600@airports.venturacounty.gov
SUMMARY:Camarillo/Oxnard Airport Authority Meeting
DESCRIPTION:Camarillo/Oxnard Airport Authority regular meeting
URL:https://airports.venturacounty.gov/event/camarillo-oxnard-airport-authority-meeting-19/
LOCATION:Department of Airports\, 555 Airport Way\, Suite B\, Camarillo\, CA\, 93010\, United States
END:VEVENT
BEGIN:VEVENT
DTSTART;VALUE=DATE:20260619
DTEND;VALUE=DATE:20260620
DTSTAMP:20260424T114407
CREATED:20251215T213435Z
LAST-MODIFIED:20251215T213435Z
UID:2622-1781827200-1781913599@airports.venturacounty.gov
SUMMARY:OFFICE CLOSURE – HOLIDAY
DESCRIPTION:
URL:https://airports.venturacounty.gov/event/office-closure-holiday-15/
END:VEVENT
BEGIN:VEVENT
DTSTART;TZID=America/Los_Angeles:20260623T083000
DTEND;TZID=America/Los_Angeles:20260623T083000
DTSTAMP:20260424T114407
CREATED:20251212T002916Z
LAST-MODIFIED:20251212T002916Z
UID:2603-1782203400-1782203400@airports.venturacounty.gov
SUMMARY:Board of Supervisors Regular Meeting
DESCRIPTION:
URL:https://airports.venturacounty.gov/event/board-of-supervisors-regular-meeting-32/
LOCATION:County Government Center\, 800 South Victoria Ave.\, Ventura\, CA\, 93003
CATEGORIES:BOS
END:VEVENT
END:VCALENDAR