BEGIN:VCALENDAR
VERSION:2.0
PRODID:-//Ventura County Airports - ECPv6.15.20//NONSGML v1.0//EN
CALSCALE:GREGORIAN
METHOD:PUBLISH
X-ORIGINAL-URL:https://airports.venturacounty.gov
X-WR-CALDESC:Events for Ventura County Airports
REFRESH-INTERVAL;VALUE=DURATION:PT1H
X-Robots-Tag:noindex
X-PUBLISHED-TTL:PT1H
BEGIN:VTIMEZONE
TZID:America/Los_Angeles
BEGIN:DAYLIGHT
TZOFFSETFROM:-0800
TZOFFSETTO:-0700
TZNAME:PDT
DTSTART:20250309T100000
END:DAYLIGHT
BEGIN:STANDARD
TZOFFSETFROM:-0700
TZOFFSETTO:-0800
TZNAME:PST
DTSTART:20251102T090000
END:STANDARD
BEGIN:DAYLIGHT
TZOFFSETFROM:-0800
TZOFFSETTO:-0700
TZNAME:PDT
DTSTART:20260308T100000
END:DAYLIGHT
BEGIN:STANDARD
TZOFFSETFROM:-0700
TZOFFSETTO:-0800
TZNAME:PST
DTSTART:20261101T090000
END:STANDARD
BEGIN:DAYLIGHT
TZOFFSETFROM:-0800
TZOFFSETTO:-0700
TZNAME:PDT
DTSTART:20270314T100000
END:DAYLIGHT
BEGIN:STANDARD
TZOFFSETFROM:-0700
TZOFFSETTO:-0800
TZNAME:PST
DTSTART:20271107T090000
END:STANDARD
END:VTIMEZONE
BEGIN:VEVENT
DTSTART;TZID=America/Los_Angeles:20260512T083000
DTEND;TZID=America/Los_Angeles:20260512T083000
DTSTAMP:20260424T020910
CREATED:20251212T002441Z
LAST-MODIFIED:20251212T002441Z
UID:2600-1778574600-1778574600@airports.venturacounty.gov
SUMMARY:Board of Supervisors Regular Meeting
DESCRIPTION:
URL:https://airports.venturacounty.gov/event/board-of-supervisors-regular-meeting-29/
LOCATION:County Government Center\, 800 South Victoria Ave.\, Ventura\, CA\, 93003
CATEGORIES:BOS
END:VEVENT
BEGIN:VEVENT
DTSTART;TZID=America/Los_Angeles:20260513T183000
DTEND;TZID=America/Los_Angeles:20260513T183000
DTSTAMP:20260424T020910
CREATED:20250929T192642Z
LAST-MODIFIED:20250929T192642Z
UID:2477-1778697000-1778697000@airports.venturacounty.gov
SUMMARY:Aviation Advisory Commission Meeting
DESCRIPTION:Aviation Advisory Commission regular meeting
URL:https://airports.venturacounty.gov/event/aviation-advisory-commission-meeting-41/
LOCATION:Department of Airports\, 555 Airport Way\, Suite B\, Camarillo\, CA\, 93010\, United States
END:VEVENT
BEGIN:VEVENT
DTSTART;TZID=America/Los_Angeles:20260514T183000
DTEND;TZID=America/Los_Angeles:20260514T183000
DTSTAMP:20260424T020910
CREATED:20250929T192811Z
LAST-MODIFIED:20250929T192848Z
UID:2478-1778783400-1778783400@airports.venturacounty.gov
SUMMARY:Camarillo/Oxnard Airport Authority Meeting
DESCRIPTION:Camarillo/Oxnard Airport Authority regular meeting
URL:https://airports.venturacounty.gov/event/camarillo-oxnard-airport-authority-meeting-18/
LOCATION:Department of Airports\, 555 Airport Way\, Suite B\, Camarillo\, CA\, 93010\, United States
END:VEVENT
BEGIN:VEVENT
DTSTART;TZID=America/Los_Angeles:20260519T083000
DTEND;TZID=America/Los_Angeles:20260519T083000
DTSTAMP:20260424T020910
CREATED:20251212T002537Z
LAST-MODIFIED:20251212T002537Z
UID:2601-1779179400-1779179400@airports.venturacounty.gov
SUMMARY:Board of Supervisors Regular Meeting
DESCRIPTION:
URL:https://airports.venturacounty.gov/event/board-of-supervisors-regular-meeting-30/
LOCATION:County Government Center\, 800 South Victoria Ave.\, Ventura\, CA\, 93003
CATEGORIES:BOS
END:VEVENT
BEGIN:VEVENT
DTSTART;VALUE=DATE:20260525
DTEND;VALUE=DATE:20260526
DTSTAMP:20260424T020910
CREATED:20251215T213405Z
LAST-MODIFIED:20251215T213405Z
UID:2621-1779667200-1779753599@airports.venturacounty.gov
SUMMARY:OFFICE CLOSURE – HOLIDAY
DESCRIPTION:
URL:https://airports.venturacounty.gov/event/office-closure-holiday-14/
END:VEVENT
END:VCALENDAR